BEGIN:VCALENDAR
VERSION:2.0
PRODID:-//WCIS//Open Days//EN
CALSCALE:GREGORIAN
METHOD:PUBLISH
BEGIN:VEVENT
UID:wcis-od-123@wherecanistudy.co.uk
DTSTAMP:20260420T160557Z
DTSTART:20260507T160000Z
DTEND:20260507T190000Z
SUMMARY:New City College - Redbridge Campus
DESCRIPTION:Join us for our Open Event and discover everything our college has to offer. Whether you’re leaving school\, returning to education\, or looking to upskill\, this is your chance to explore courses\, meet our tutors\, and get personalised advice.
LOCATION:Chadwell Heath Lane\, Chadwell Heath\, RM6 4XT
URL:https://wherecanistudy.co.uk/?od_event_id=123
END:VEVENT
END:VCALENDAR
