BEGIN:VCALENDAR
VERSION:2.0
PRODID:-//WCIS//Open Days//EN
CALSCALE:GREGORIAN
METHOD:PUBLISH
BEGIN:VEVENT
UID:wcis-od-133@wherecanistudy.co.uk
DTSTAMP:20260420T205026Z
DTSTART:20260610T160000Z
DTEND:20260610T190000Z
SUMMARY:Uxbridge College
DESCRIPTION:Join us to find out about the the range of courses and apprenticeships on offer at Uxbridge College. Drop in anytime between 4pm and 7pm.

Begin your career journey with Uxbridge College. Come along to our Open Day to see the choices available to you for post-16 education. We offer A-Levels\, T-Levels\, vocational courses\, HE courses (though our West London Institute of Technology)\, courses for adults and apprenticeships.
LOCATION:Uxbridge College\, Park Road\, Uxbridge\, UB8 1NQ
URL:https://wherecanistudy.co.uk/?od_event_id=133
END:VEVENT
END:VCALENDAR
