BEGIN:VCALENDAR
VERSION:2.0
PRODID:-//WCIS//Open Days//EN
CALSCALE:GREGORIAN
METHOD:PUBLISH
BEGIN:VEVENT
UID:wcis-od-135@wherecanistudy.co.uk
DTSTAMP:20260420T160830Z
DTSTART:20260613T100000Z
DTEND:20260613T130000Z
SUMMARY:Harrow College
DESCRIPTION:Discover Harrow College\'s range of courses and apprenticeships and kickstart your future! Drop in anytime between 10am and 1pm.

Begin your career journey with Harrow College. Come along to our Open Day to see the choices available to you after GCSEs and beyond. We offer A-Levels\, T-Levels\, vocational courses\, HE courses\, courses for adults and apprenticeships ina range of subject and industry areas.
LOCATION:Lowlands Road\, Harrow\, HA1 3AQ
URL:https://wherecanistudy.co.uk/?od_event_id=135
END:VEVENT
END:VCALENDAR
