BEGIN:VCALENDAR
VERSION:2.0
PRODID:-//WCIS//Open Days//EN
CALSCALE:GREGORIAN
METHOD:PUBLISH
BEGIN:VEVENT
UID:wcis-od-136@wherecanistudy.co.uk
DTSTAMP:20260420T204933Z
DTSTART:20260616T160000Z
DTEND:20260616T170000Z
SUMMARY:Richmond upon Thames College
DESCRIPTION:Meet our staff\, see our facilities\, hear from our Principal and apply to join us in September 2026!

Come along to one of our Open Events where you can find out more about studying at Richmond upon Thames College (RuTC).
LOCATION:Langhorn Drive\, Twickenham\, TW2 7SJ
URL:https://wherecanistudy.co.uk/?od_event_id=136
END:VEVENT
END:VCALENDAR
