BEGIN:VCALENDAR
VERSION:2.0
PRODID:-//WCIS//Open Days//EN
CALSCALE:GREGORIAN
METHOD:PUBLISH
BEGIN:VEVENT
UID:wcis-od-137@wherecanistudy.co.uk
DTSTAMP:20260420T160835Z
DTSTART:20260617T163000Z
DTEND:20260617T183000Z
SUMMARY:South Thames College
DESCRIPTION:South Thames College invites you to join us for our Open Day event!

Looking for a course to kick-start your career? We have a wide range of 16-18 courses\, Apprenticeships\, Higher Education Courses and Adult Education courses that will set you on the road to employment in a number of exciting industries. Come in and talk to our tutors who will find the right course for you.
LOCATION:Wandsworth High Street\, London\, SW18 2PP
URL:https://wherecanistudy.co.uk/?od_event_id=137
END:VEVENT
END:VCALENDAR
