BEGIN:VCALENDAR
VERSION:2.0
PRODID:-//WCIS//Open Days//EN
CALSCALE:GREGORIAN
METHOD:PUBLISH
BEGIN:VEVENT
UID:wcis-od-139@wherecanistudy.co.uk
DTSTAMP:20260420T204934Z
DTSTART:20260619T110000Z
DTEND:20260619T130000Z
SUMMARY:Kingston College
DESCRIPTION:We have a wide range of courses that will set you on the road to university or employment in a number of exciting industries. Come in and talk to our tutors who will guide you in finding the right course\, or chat with one of our experienced careers advisers.
LOCATION:Kingston Hall Road\, Kingston upon Thames\, KT1 2AQ
URL:https://wherecanistudy.co.uk/?od_event_id=139
END:VEVENT
END:VCALENDAR
