BEGIN:VCALENDAR
VERSION:2.0
PRODID:-//WCIS//Open Days//EN
CALSCALE:GREGORIAN
METHOD:PUBLISH
BEGIN:VEVENT
UID:wcis-od-141@wherecanistudy.co.uk
DTSTAMP:20260420T205938Z
DTSTART:20260624T170000Z
DTEND:20260624T190000Z
SUMMARY:Carshalton College
DESCRIPTION:Carshalton College invites you to join us for our Open Event!
We have a wide range of vocational courses that will set you on the road to employment in a number of exciting industries.

PLEASE NOTE ONLY THE POTENTIAL APPLICANT NEEDS TO REGISTER ATTENDANCE.
Come in and talk to our tutors who will guide you in finding the right course.
We offer Full Time courses in Art &amp\; Design\, Creative/Digital Media\, Games Development\, Beauty Therapy\, Sports\, Bricklaying\, Carpentry/ Multi-Skills\, Plumbing\, Motorcycle\, Motor Vehicle and Foundation Learning/SEND.

We will also have staff available to discuss English and Maths\, ESOL\, Apprenticeships\, Learning Support and Student Services.
LOCATION:Nightingale Road\, Carshalton\, SM5 2EJ
URL:https://wherecanistudy.co.uk/?od_event_id=141
END:VEVENT
END:VCALENDAR
