BEGIN:VCALENDAR
VERSION:2.0
PRODID:-//WCIS//Open Days//EN
CALSCALE:GREGORIAN
METHOD:PUBLISH
BEGIN:VEVENT
UID:wcis-od-142@wherecanistudy.co.uk
DTSTAMP:20260420T172618Z
DTSTART:20260624T170000Z
DTEND:20260624T193000Z
SUMMARY:London South East Colleges - Orpington
DESCRIPTION:Our Orpington Campus offers students the opportunity to study a high quality\, industry-focused hospitality and catering course. Supported by a number of top companies including the Dorchester Group\, Hyatt\, D&amp\;D London and Hilton Hotels\, the College offers young people a truly innovative way to gain the skills and qualifications employers need.

With entry points at Levels 1\, 2 and 3\, there is something for everyone. It’s not just a career as a professional chef that is on offer\, if you are good with people then we can train you in front-of-house\, restaurant manager\, barista\, mixologist\, hotel manager or receptionist roles too. We will help to find the perfect career for you!
LOCATION:London South East Colleges: Orpington\, The Walnuts\, London\, BR6 0TE
URL:https://wherecanistudy.co.uk/?od_event_id=142
END:VEVENT
END:VCALENDAR
