BEGIN:VCALENDAR
VERSION:2.0
PRODID:-//WCIS//Open Days//EN
CALSCALE:GREGORIAN
METHOD:PUBLISH
BEGIN:VEVENT
UID:wcis-od-143@wherecanistudy.co.uk
DTSTAMP:20260420T160830Z
DTSTART:20260625T170000Z
DTEND:20260625T190000Z
SUMMARY:Merton College
DESCRIPTION:Merton College invites you to join us for our Open Day event! We have a wide range of vocational courses that will set you on the road to employment in a number of exciting industries.

Come in and talk to our tutors who will guide you in finding the right course.
We offer Full Time courses in Access to Higher Education\, Business\, Childcare &amp\; Early Years Computing &amp\; IT\, Electrical Installation\, Engineering\, ESOL\, Foundation learning/SEND\, Hairdressing\, Health &amp\; Social Care\, Hospitality &amp\; Catering and Human Sciences.
LOCATION:London Road\, Morden\, SM4 5QX
URL:https://wherecanistudy.co.uk/?od_event_id=143
END:VEVENT
END:VCALENDAR
