BEGIN:VCALENDAR
VERSION:2.0
PRODID:-//WCIS//Open Days//EN
CALSCALE:GREGORIAN
METHOD:PUBLISH
BEGIN:VEVENT
UID:wcis-od-144@wherecanistudy.co.uk
DTSTAMP:20260420T204933Z
DTSTART:20260627T100000Z
DTEND:20260627T130000Z
SUMMARY:London South East Colleges - Greenwich Campus
DESCRIPTION:Come along to our Open Event at our NEW Greenwich campus and find out what London South East Colleges has to offer you. Talk to our friendly staff\, meet our students and tour our amazing facilities. If you need advice and guidance our careers advisors will be on hand to answer any questions and help to find the perfect course for you.
LOCATION:95 Plumstead Road\, London\, SE18 7DQ
URL:https://wherecanistudy.co.uk/?od_event_id=144
END:VEVENT
END:VCALENDAR
