BEGIN:VCALENDAR
VERSION:2.0
PRODID:-//WCIS//Open Days//EN
CALSCALE:GREGORIAN
METHOD:PUBLISH
BEGIN:VEVENT
UID:wcis-od-146@wherecanistudy.co.uk
DTSTAMP:20260422T120117Z
DTSTART:20260619T130000Z
DTEND:20260619T140000Z
SUMMARY:MPCT Military Academy
DESCRIPTION:nterested in a career in the Armed Forces and Uniformed Services?

Our ‘Keep in Touch’ Days will be held on Friday 1st May 2026 and Friday 19th June 2026. Starting at 13:00 and finishing at 14:30 for all locations apart from Manchester and Chorley\, which will be 10:00 – 11:30.

To book your place\, please call Learner Support on 0303 003 3677 or email help@learningcurvegroup.co.uk.
LOCATION:
URL:https://wherecanistudy.co.uk/?od_event_id=146
END:VEVENT
END:VCALENDAR
