BEGIN:VCALENDAR
VERSION:2.0
PRODID:-//WCIS//Open Days//EN
CALSCALE:GREGORIAN
METHOD:PUBLISH
BEGIN:VEVENT
UID:wcis-od-89@wherecanistudy.co.uk
DTSTAMP:20260421T012516Z
DTSTART:20261114T100000Z
DTEND:20260314T150000Z
SUMMARY:What Next?
DESCRIPTION:What University? &amp\; What Career? Live is an essential free UK event for 15–19-year-olds\, featuring top universities and employers to explore higher education and career paths.
LOCATION:Olympia\, Hammersmith Road\, London\, W14 8UX
URL:https://wherecanistudy.co.uk/?od_event_id=89
END:VEVENT
END:VCALENDAR
